BEGIN:VCALENDAR
VERSION:2.0
PRODID:-//The Fertility Center of Las Vegas - ECPv6.15.20//NONSGML v1.0//EN
CALSCALE:GREGORIAN
METHOD:PUBLISH
X-ORIGINAL-URL:https://fertilitycenterlv.com
X-WR-CALDESC:Events for The Fertility Center of Las Vegas
REFRESH-INTERVAL;VALUE=DURATION:PT1H
X-Robots-Tag:noindex
X-PUBLISHED-TTL:PT1H
BEGIN:VTIMEZONE
TZID:America/Los_Angeles
BEGIN:DAYLIGHT
TZOFFSETFROM:-0800
TZOFFSETTO:-0700
TZNAME:PDT
DTSTART:20250309T100000
END:DAYLIGHT
BEGIN:STANDARD
TZOFFSETFROM:-0700
TZOFFSETTO:-0800
TZNAME:PST
DTSTART:20251102T090000
END:STANDARD
BEGIN:DAYLIGHT
TZOFFSETFROM:-0800
TZOFFSETTO:-0700
TZNAME:PDT
DTSTART:20260308T100000
END:DAYLIGHT
BEGIN:STANDARD
TZOFFSETFROM:-0700
TZOFFSETTO:-0800
TZNAME:PST
DTSTART:20261101T090000
END:STANDARD
BEGIN:DAYLIGHT
TZOFFSETFROM:-0800
TZOFFSETTO:-0700
TZNAME:PDT
DTSTART:20270314T100000
END:DAYLIGHT
BEGIN:STANDARD
TZOFFSETFROM:-0700
TZOFFSETTO:-0800
TZNAME:PST
DTSTART:20271107T090000
END:STANDARD
END:VTIMEZONE
BEGIN:VEVENT
DTSTART;VALUE=DATE:20260508
DTEND;VALUE=DATE:20260511
DTSTAMP:20260421T060949
CREATED:20260331T173709Z
LAST-MODIFIED:20260331T173709Z
UID:31116-1778198400-1778457599@fertilitycenterlv.com
SUMMARY:Private Consultations in Berlin
DESCRIPTION:By providing access to expert fertility guidance beyond borders\, we’re making it easier for intended parents to explore their options with confidence. \nFor a limited time\, a member of our experienced third-party reproduction team will be available in Berlin from May 8–10 for private\, one-on-one consultations. \nDuring your consultation\, you’ll have the opportunity to discuss your unique journey and receive personalized guidance on: \n\nIVF (In Vitro Fertilization)\nEgg Donation\nSurrogacy options\nProcess timelines\, logistics\, and next steps\n\nConsultations are available in English\, French\, and Spanish\, ensuring clear communication and comfort throughout your visit. \nWhether you are just beginning to explore your options or are ready to move forward\, this is a valuable opportunity to better understand the process and your available paths to parenthood. \nBecause availability is limited\, advance reservations are required. \nPlease complete the form below to request your consultation.
URL:https://fertilitycenterlv.com/event/private-consultations-in-berlin/
LOCATION:Berlin\, Berlin\, Germany
END:VEVENT
END:VCALENDAR