BEGIN:VCALENDAR
VERSION:2.0
PRODID:-//The Fertility Center of Las Vegas - ECPv6.15.20//NONSGML v1.0//EN
CALSCALE:GREGORIAN
METHOD:PUBLISH
X-ORIGINAL-URL:https://fertilitycenterlv.com
X-WR-CALDESC:Events for The Fertility Center of Las Vegas
REFRESH-INTERVAL;VALUE=DURATION:PT1H
X-Robots-Tag:noindex
X-PUBLISHED-TTL:PT1H
BEGIN:VTIMEZONE
TZID:America/Los_Angeles
BEGIN:DAYLIGHT
TZOFFSETFROM:-0800
TZOFFSETTO:-0700
TZNAME:PDT
DTSTART:20230312T100000
END:DAYLIGHT
BEGIN:STANDARD
TZOFFSETFROM:-0700
TZOFFSETTO:-0800
TZNAME:PST
DTSTART:20231105T090000
END:STANDARD
BEGIN:DAYLIGHT
TZOFFSETFROM:-0800
TZOFFSETTO:-0700
TZNAME:PDT
DTSTART:20240310T100000
END:DAYLIGHT
BEGIN:STANDARD
TZOFFSETFROM:-0700
TZOFFSETTO:-0800
TZNAME:PST
DTSTART:20241103T090000
END:STANDARD
BEGIN:DAYLIGHT
TZOFFSETFROM:-0800
TZOFFSETTO:-0700
TZNAME:PDT
DTSTART:20250309T100000
END:DAYLIGHT
BEGIN:STANDARD
TZOFFSETFROM:-0700
TZOFFSETTO:-0800
TZNAME:PST
DTSTART:20251102T090000
END:STANDARD
END:VTIMEZONE
BEGIN:VEVENT
DTSTART;TZID=America/Los_Angeles:20240426T080000
DTEND;TZID=America/Los_Angeles:20240428T170000
DTSTAMP:20260418T090153
CREATED:20230303T185306Z
LAST-MODIFIED:20240314T225615Z
UID:25321-1714118400-1714323600@fertilitycenterlv.com
SUMMARY:Team FCLV is coming to Germany in April
DESCRIPTION:The Fertility Center of Las Vegas will be attending and sponsoring the Men Having Babies Surrogacy Conference in Berlin\, Germany on April 26-28. \nIf you are looking to start or grow your family with the assistance of an egg donor and surrogate\, this conference will provide you with valuable information on your journey to parenthood. \nIf you are interested in attending\, or if you would like to schedule a private consultation with one of our physicians in Germany\, please complete the form below and one of our surrogacy experts will reach out to you shortly. \nContact us today for more information!
URL:https://fertilitycenterlv.com/event/team-fclv-is-coming-to-germany-in-april/
LOCATION:Germany\, Germany
END:VEVENT
END:VCALENDAR